BEGIN:VCALENDAR
VERSION:2.0
PRODID:-//Shannon - ECPv6.15.5//NONSGML v1.0//EN
CALSCALE:GREGORIAN
METHOD:PUBLISH
X-WR-CALNAME:Shannon
X-ORIGINAL-URL:https://shannon.ca
X-WR-CALDESC:Évènements pour Shannon
REFRESH-INTERVAL;VALUE=DURATION:PT1H
X-Robots-Tag:noindex
X-PUBLISHED-TTL:PT1H
BEGIN:VTIMEZONE
TZID:America/New_York
BEGIN:DAYLIGHT
TZOFFSETFROM:-0500
TZOFFSETTO:-0400
TZNAME:EDT
DTSTART:20250309T070000
END:DAYLIGHT
BEGIN:STANDARD
TZOFFSETFROM:-0400
TZOFFSETTO:-0500
TZNAME:EST
DTSTART:20251102T060000
END:STANDARD
END:VTIMEZONE
BEGIN:VEVENT
DTSTART;TZID=America/New_York:20250607T080000
DTEND;TZID=America/New_York:20250608T120000
DTSTAMP:20260421T054610
CREATED:20250605T150848Z
LAST-MODIFIED:20250605T151037Z
UID:39355-1749283200-1749384000@shannon.ca
SUMMARY:POINT DE DÉPÔT - COLLECTE DES BRANCHES
DESCRIPTION:Vous avez des branches dont vous souhaitez vous départir ? \nAux deux jours de collectes prévus lors des encombrants\, un point de dépôt sera ajouté pour les résident·e·s de Shannon qui souhaitent se départir de leurs branches les 7 et 8 juin 2025\, de 8 h à 12 h\, au 77\, chemin de Gosford. \nCollectes des encombrants et des branches  \n\n Jeudi 4 septembre 2025\n\n* À noter que pour le secteur de Kilkenny les collectes auront lieu : \n\nLundi 14 juillet et lundi 29 septembre 2025\n\nLes branches d’arbres devront être attachées et coupées en longueur d’environ quatre pieds. \nÉcocentre Ste-Catherine-de-la-Jacques-Cartier \nRappelons qu’il est possible pour les citoyen·e·s de Shannon de déposer gratuitement\, en tout temps\, leurs branches d’arbres à l’Écocentre Ste-Catherine-de-la-Jacques-Cartier (selon l’horaire d’ouverture). \nPour plus d’information\, communiquez avec nous au 418 844-3778 ou ville@shannon.ca.
URL:https://shannon.ca/evenement/point-de-depot-collecte-des-branches/
LOCATION:77\, chemin de Gosford
ATTACH;FMTTYPE=image/jpeg:https://shannon.ca/wp-content/uploads/2022/04/Branches.jpg
END:VEVENT
END:VCALENDAR