BEGIN:VCALENDAR
VERSION:2.0
PRODID:-//Shannon - ECPv6.15.5//NONSGML v1.0//EN
CALSCALE:GREGORIAN
METHOD:PUBLISH
X-WR-CALNAME:Shannon
X-ORIGINAL-URL:https://shannon.ca
X-WR-CALDESC:Évènements pour Shannon
REFRESH-INTERVAL;VALUE=DURATION:PT1H
X-Robots-Tag:noindex
X-PUBLISHED-TTL:PT1H
BEGIN:VTIMEZONE
TZID:America/New_York
BEGIN:DAYLIGHT
TZOFFSETFROM:-0500
TZOFFSETTO:-0400
TZNAME:EDT
DTSTART:20230312T070000
END:DAYLIGHT
BEGIN:STANDARD
TZOFFSETFROM:-0400
TZOFFSETTO:-0500
TZNAME:EST
DTSTART:20231105T060000
END:STANDARD
BEGIN:DAYLIGHT
TZOFFSETFROM:-0500
TZOFFSETTO:-0400
TZNAME:EDT
DTSTART:20240310T070000
END:DAYLIGHT
BEGIN:STANDARD
TZOFFSETFROM:-0400
TZOFFSETTO:-0500
TZNAME:EST
DTSTART:20241103T060000
END:STANDARD
END:VTIMEZONE
BEGIN:VEVENT
DTSTART;VALUE=DATE:20241026
DTEND;VALUE=DATE:20241027
DTSTAMP:20260421T214949
CREATED:20241001T183420Z
LAST-MODIFIED:20241022T202458Z
UID:34607-1729900800-1729987199@shannon.ca
SUMMARY:🎃 HALLOWEEN SHANNON
DESCRIPTION:L’attente touche à sa fin… L’Halloween arrive à grands pas à Shannon ! Rendez-vous samedi 26 octobre 2024\, au Parc municipal (73\, chemin de Gosford) pour une journée monstrueusement amusante ! \n  \n👻 La journée se déroulera en deux temps : \n🕒 14 h 30 à 16 h 30 (petits frissons…) \n🌙 18 h à 20 h (GROSSES frayeurs!) \n  \nAu programme : \n🔥 Des cracheurs de feu époustouflants vous feront frissonner\, en après-midi et en soirée ! \n🍬 Un parcours mystère pour récolter des bonbons à travers des kiosques hantés – la distribution commencera dès l’après-midi et se poursuivra jusqu’à ce que nos réserves soient dévorées par les petits monstres affamés ! \n🍿 Barbe à papa et popcorn offerts gratuitement aux petits monstres – mais faites vite\, les quantités seront limitées ! Premier arrivé\, premier servi ! \n  \nBien d’autres surprises effrayantes au menu… 👀 \n  \n🎉 L’entrée est gratuite pour tous (même pour les fantômes\, sorcières et zombies !) \n🐾 Les chiens doivent absolument rester à la maison pour ne pas effrayer les squelettes ! \n  \nAlors\, prêts à vous laisser ensorceler ? 🎃 \n  \nLa Ville de Shannon tient à remercier tous les bénévoles qui contribuent au succès de l’évènement et ses partenaires soit : la Caisse populaire Desjardins du Piedmont Laurentien\, la boutique Animaux-Jo\, le Centre Mécanique Shannon\, Familiprix Vincent Gélinas et Audrey Kimpton\, les Hauts-Bois de Shannon\, l’Équipe Loiselle et Masse\, Jean Fait-tout\, le restaurant Chez Denise\, le Centre de ressources pour les familles militaires Valcartier et le Corps de cadets 2772 – Valcartier et Monsieur Éric Caire\, Député de La Peltrie\, Ministre de la Cybersécurité et du Numérique et Leader parlementaire adjoint du gouvernement. \n \n\nFOIRE AUX QUESTIONS \n  \nPeut-on amener les enfants en poussette? \nAbsolument\, les petites citrouilles sont les bienvenues! \n  \nEst-ce que l’événement aura lieu en cas de pluie? \nL’événement aura lieu beau temps mauvais temps! En cas de conditions météorologiques extrêmes\, l’événement peut être annulé par la Sécurité publique. Référez-vous à cette page Web ou à notre page Facebook. \n  \nEst-ce que le stationnement est payant? \n🚗 Non! C’est une fête municipale\, alors les stationnements municipaux seront gratuits pour l’occasion. \n  \nLes chiens sont-ils permis sur le site? \n🐕 Les compagnons à quatre pattes devront absolument rester à la maison pour ne pas effrayer les petits monstres! \n  \nEst-il possible de circuler en vélo\, en scooter ou en trottinette ? \n🚲 Pour la sécurité de tous nos fantômes et sorcières\, ces moyens de transport ne sont pas permis sur le site. \n 
URL:https://shannon.ca/evenement/11e-edition-fete-familiale-halloween-shannon/
LOCATION:73\, chemin de gosford\, 73\, chemin de Gosford\, Shannon\, Québec\, G3S 0W4\, Canada
ATTACH;FMTTYPE=image/jpeg:https://shannon.ca/wp-content/uploads/2024/10/Halloween2024.jpg
END:VEVENT
BEGIN:VEVENT
DTSTART;TZID=America/New_York:20230623T140000
DTEND;TZID=America/New_York:20230623T230000
DTSTAMP:20260421T214949
CREATED:20230614T183243Z
LAST-MODIFIED:20230614T183243Z
UID:26364-1687528800-1687561200@shannon.ca
SUMMARY:FÊTE NATIONALE DU QUÉBEC
DESCRIPTION:LE VENDREDI 23 JUIN 2023\, C’EST À SHANNON QUE ÇA SE PASSE!\n  \nLa fête nationale sera célébrée en grand cette année avec des activités gratuites et festives qui se dérouleront au Parc Municipal de la Ville de Shannon\, au 73\, chemin de Gosford. \n  \n14h ZUMBA EN PLEIN-AIR \n16h PARTY MOUSSE au son des hits des années 80 \n17h ÉDUCAZOO \n18h30 DANSE COUNTRY \n20h SPECTACLE – FANCY BARBARE \nAussi sur le site : bar laitier mobile « Crème et Confettis » ($)\, souper hot-dogs servi par les pompiers de Shannon ($)\, service de bar ($) \n \n  \nFOIRE AUX QUESTIONS\nEst-ce que l’événement aura lieu en cas de pluie? \n​​​​Oui\, l’événement aura lieu et ne sera pas remis. Notez que les parapluies individuels sont acceptés\, mais que les parasols et les parapluies de golf sont interdits. \nEn cas de conditions météorologiques extrêmes\, l’événement peut être annulé par la sécurité publique. Référez-vous à cette page Web ou à notre page Facebook. \n  \nEst-ce que le stationnement est payant? \n​Comme c’est une activité municipale\, le stationnement du Centre communautaire sera gratuit pour tous pendant l’évènement. \nLa tarification régulière du stationnement du Parc Canin s’appliquera. \n  \nLes chiens sont-ils permis sur le site? \n​Les chiens ne sont pas admis sur le site. \n  \nPeut-on apporter un lunch? \n​Les lunchs apportés dans une glacière souple ou un sac ainsi que les contenants en plastique sont acceptés. Toutefois\, les contenants en verre et les appareils de cuisson sont interdits\, par mesure de sécurité. Les sacs seront vérifiés. \n  \nPeut-on apporter des boissons alcoolisées? \n​Il est interdit d’entrer de l’alcool sur le site. Un service de bar ($) sera offert. \n  \n\nCrédit photo : Ville de Shannon
URL:https://shannon.ca/evenement/fete-nationale-du-quebec/
LOCATION:73\, chemin de gosford\, 73\, chemin de Gosford\, Shannon\, Québec\, G3S 0W4\, Canada
END:VEVENT
END:VCALENDAR