BEGIN:VCALENDAR
VERSION:2.0
PRODID:-//Shannon - ECPv6.15.5//NONSGML v1.0//EN
CALSCALE:GREGORIAN
METHOD:PUBLISH
X-WR-CALNAME:Shannon
X-ORIGINAL-URL:https://shannon.ca
X-WR-CALDESC:Évènements pour Shannon
REFRESH-INTERVAL;VALUE=DURATION:PT1H
X-Robots-Tag:noindex
X-PUBLISHED-TTL:PT1H
BEGIN:VTIMEZONE
TZID:America/New_York
BEGIN:DAYLIGHT
TZOFFSETFROM:-0500
TZOFFSETTO:-0400
TZNAME:EDT
DTSTART:20260308T070000
END:DAYLIGHT
BEGIN:STANDARD
TZOFFSETFROM:-0400
TZOFFSETTO:-0500
TZNAME:EST
DTSTART:20261101T060000
END:STANDARD
END:VTIMEZONE
BEGIN:VEVENT
DTSTART;VALUE=DATE:20260414
DTEND;VALUE=DATE:20260528
DTSTAMP:20260423T053814
CREATED:20260414T202957Z
LAST-MODIFIED:20260414T202957Z
UID:45489-1776124800-1779926399@shannon.ca
SUMMARY:MARCHÉ AUX PUCES | RÉSERVEZ VOTRE EMPLACEMENT
DESCRIPTION:Le grand ménage de printemps est en cours? Les armoires débordent d’objets oubliés qui pourraient encore faire des heureux? C’est le moment de faire du tri… et de transformer vos articles inutilisés en argent sonnant! \nLe grand ménage de printemps est en cours? Les armoires débordent d’objets oubliés qui pourraient encore faire des heureux? C’est le moment de faire du tri… et de transformer vos articles inutilisés en argent sonnant! \n  \nRéservez votre emplacement dès maintenant\, les inscriptions sont ouvertes et les places sont (très!) limitées: www.shannon.ca/puces/ \n  \n📍 Lieu : Parc municipal (73\, chemin de Gosford)\n📅 Date : Samedi 30 mai 2026\, de 8 h à 15 h \n  \nEn cas de pluie\, aucun souci et pas de report au lendemain. Les activités se tiendront à l’intérieur du Chalet des sports ainsi que sous le gazebo. \n  \nLe FestiVert est un nouvel événement issu de la fusion de « Pimp ta cour » (distribution d’arbres et de compost\, conseils horticoles) et de la « Fête des voisins » (marché aux puces\, activités familiales et dîner hot-dogs).
URL:https://shannon.ca/evenement/marche-aux-puces-reservez-votre-emplacement/
ATTACH;FMTTYPE=image/jpeg:https://shannon.ca/wp-content/uploads/2026/04/1.jpg
ORGANIZER;CN="Ville de Shannon":MAILTO:ville@shannon.ca
END:VEVENT
BEGIN:VEVENT
DTSTART;TZID=America/New_York:20260423T190000
DTEND;TZID=America/New_York:20260423T210000
DTSTAMP:20260423T053814
CREATED:20260414T174456Z
LAST-MODIFIED:20260414T180211Z
UID:45445-1776970800-1776978000@shannon.ca
SUMMARY:🏠 SOIRÉE HISTORIQUE – les expropriations de Shannon
DESCRIPTION:La Société historique de Shannon est heureuse d’inviter la population à une soirée d’histoire qui aura lieu le jeudi 23 avril 2026 à 19 h au Centre communautaire de Shannon\, 75\, chemin de Gosford. \nDécouvrez l’historique des expropriations qui ont concerné Shannon au fil du temps\, particulièrement la désappropriation majeure de 1965. Cette rencontre explorera les conséquences de ces évictions pour les familles touchées\, notamment la perte de leurs terres et de leurs moyens de subsistance. Cette présentation s’accompagnera de courtes mises en situation destinées à illustrer objectivement les enjeux auxquels ont été confrontées les familles à la suite de cette décision gouvernementale. C’est une occasion d’en apprendre davantage sur l’histoire locale et de mieux comprendre les événements qui ont façonné la communauté. \nPour plus d’information : deborahkiley@hotmail.com. \nApprenez-en plus en consultant nos chroniques historiques au www.shannon.ca.
URL:https://shannon.ca/evenement/soiree-historique-les-expropriations-de-shannon/
LOCATION:75 chemin de gosford\, 75\, chemin de Gosford\, Shannon\, Québec\, G3S 0W4\, Canada
ATTACH;FMTTYPE=image/jpeg:https://shannon.ca/wp-content/uploads/2026/04/Affiche-soiree-historique-expropriations-23-avril-2026.jpg
END:VEVENT
END:VCALENDAR